BEGIN:VCALENDAR
VERSION:2.0
PRODID:-//NADI Kg Perik - ECPv6.15.13.1//NONSGML v1.0//EN
CALSCALE:GREGORIAN
METHOD:PUBLISH
X-WR-CALNAME:NADI Kg Perik
X-ORIGINAL-URL:https://kgperik.nadi.my
X-WR-CALDESC:Events for NADI Kg Perik
REFRESH-INTERVAL;VALUE=DURATION:PT1H
X-Robots-Tag:noindex
X-PUBLISHED-TTL:PT1H
BEGIN:VTIMEZONE
TZID:Asia/Kuala_Lumpur
BEGIN:STANDARD
TZOFFSETFROM:+0800
TZOFFSETTO:+0800
TZNAME:+08
DTSTART:20250101T000000
END:STANDARD
END:VTIMEZONE
BEGIN:VEVENT
DTSTART;TZID=Asia/Kuala_Lumpur:20260106T153000
DTEND;TZID=Asia/Kuala_Lumpur:20260106T163000
DTSTAMP:20260420T191156
CREATED:20260106T014459Z
LAST-MODIFIED:20260106T014459Z
UID:3876-1767713400-1767717000@kgperik.nadi.my
SUMMARY:Dilea Tuisyen Rakyat Open Tuition Bahasa Inggeris Tingkatan 1
DESCRIPTION:
URL:https://kgperik.nadi.my/event/dilea-tuisyen-rakyat-open-tuition-bahasa-inggeris-tingkatan-1/
END:VEVENT
BEGIN:VEVENT
DTSTART;TZID=Asia/Kuala_Lumpur:20260106T153000
DTEND;TZID=Asia/Kuala_Lumpur:20260106T163000
DTSTAMP:20260420T191156
CREATED:20260106T014521Z
LAST-MODIFIED:20260106T014521Z
UID:3878-1767713400-1767717000@kgperik.nadi.my
SUMMARY:Dilea Tuisyen Rakyat Open Tuition Bahasa Inggeris Tingkatan 2
DESCRIPTION:
URL:https://kgperik.nadi.my/event/dilea-tuisyen-rakyat-open-tuition-bahasa-inggeris-tingkatan-2/
END:VEVENT
BEGIN:VEVENT
DTSTART;TZID=Asia/Kuala_Lumpur:20260107T103000
DTEND;TZID=Asia/Kuala_Lumpur:20260107T113000
DTSTAMP:20260420T191156
CREATED:20260106T014611Z
LAST-MODIFIED:20260106T014719Z
UID:3880-1767781800-1767785400@kgperik.nadi.my
SUMMARY:Gerak Dulu Baru Hebat! #MoveSquadMalaysia | S094
DESCRIPTION:
URL:https://kgperik.nadi.my/event/gerak-dulu-baru-hebat-movesquadmalaysia-s094/
END:VEVENT
BEGIN:VEVENT
DTSTART;TZID=Asia/Kuala_Lumpur:20260109T153000
DTEND;TZID=Asia/Kuala_Lumpur:20260109T163000
DTSTAMP:20260420T191156
CREATED:20260106T014809Z
LAST-MODIFIED:20260106T014809Z
UID:3882-1767972600-1767976200@kgperik.nadi.my
SUMMARY:Dilea Tuisyen Rakyat Guidance Tuition Bahasa Inggeris Tingkatan 4
DESCRIPTION:
URL:https://kgperik.nadi.my/event/dilea-tuisyen-rakyat-guidance-tuition-bahasa-inggeris-tingkatan-4/
END:VEVENT
BEGIN:VEVENT
DTSTART;TZID=Asia/Kuala_Lumpur:20260111T153000
DTEND;TZID=Asia/Kuala_Lumpur:20260111T163000
DTSTAMP:20260420T191156
CREATED:20260106T014831Z
LAST-MODIFIED:20260106T014855Z
UID:3884-1768145400-1768149000@kgperik.nadi.my
SUMMARY:Dilea Tuisyen Rakyat Vod- Revision Video Sesi 23
DESCRIPTION:
URL:https://kgperik.nadi.my/event/dilea-tuisyen-rakyat-vod-revision-video-sesi-23/
END:VEVENT
BEGIN:VEVENT
DTSTART;TZID=Asia/Kuala_Lumpur:20260116T100000
DTEND;TZID=Asia/Kuala_Lumpur:20260116T113000
DTSTAMP:20260420T191156
CREATED:20260106T014912Z
LAST-MODIFIED:20260106T014912Z
UID:3886-1768557600-1768563000@kgperik.nadi.my
SUMMARY:Teknologi Kesihatan: Bantu Kita Sihat Atau Buat Kita Lalai? | W116
DESCRIPTION:
URL:https://kgperik.nadi.my/event/teknologi-kesihatan-bantu-kita-sihat-atau-buat-kita-lalai-w116/
END:VEVENT
BEGIN:VEVENT
DTSTART;TZID=Asia/Kuala_Lumpur:20260131T080000
DTEND;TZID=Asia/Kuala_Lumpur:20260131T140000
DTSTAMP:20260420T191156
CREATED:20260106T014933Z
LAST-MODIFIED:20260106T015127Z
UID:3888-1769846400-1769868000@kgperik.nadi.my
SUMMARY:Pameran NADI di Karnival Jubli Perak SMKKN
DESCRIPTION:
URL:https://kgperik.nadi.my/event/pameran-nadi-di-karnival-jubli-perak-smkkn/
END:VEVENT
END:VCALENDAR