BEGIN:VCALENDAR
VERSION:2.0
PRODID:-//NADI Kg Perik - ECPv6.15.13.1//NONSGML v1.0//EN
CALSCALE:GREGORIAN
METHOD:PUBLISH
X-WR-CALNAME:NADI Kg Perik
X-ORIGINAL-URL:https://kgperik.nadi.my
X-WR-CALDESC:Events for NADI Kg Perik
REFRESH-INTERVAL;VALUE=DURATION:PT1H
X-Robots-Tag:noindex
X-PUBLISHED-TTL:PT1H
BEGIN:VTIMEZONE
TZID:Asia/Kuala_Lumpur
BEGIN:STANDARD
TZOFFSETFROM:+0800
TZOFFSETTO:+0800
TZNAME:+08
DTSTART:20240101T000000
END:STANDARD
END:VTIMEZONE
BEGIN:VEVENT
DTSTART;TZID=Asia/Kuala_Lumpur:20251002T083000
DTEND;TZID=Asia/Kuala_Lumpur:20251002T130000
DTSTAMP:20260422T081041
CREATED:20251001T085013Z
LAST-MODIFIED:20251001T085013Z
UID:3746-1759393800-1759410000@kgperik.nadi.my
SUMMARY:KIS Sekolah Menengah Seluruh Padang Terap
DESCRIPTION:
URL:https://kgperik.nadi.my/event/kis-sekolah-menengah-seluruh-padang-terap/
END:VEVENT
BEGIN:VEVENT
DTSTART;TZID=Asia/Kuala_Lumpur:20251004T143000
DTEND;TZID=Asia/Kuala_Lumpur:20251004T163000
DTSTAMP:20260422T081041
CREATED:20251001T090445Z
LAST-MODIFIED:20251001T090445Z
UID:3751-1759588200-1759595400@kgperik.nadi.my
SUMMARY:DILEA – Webinar
DESCRIPTION:
URL:https://kgperik.nadi.my/event/dilea-webinar/
END:VEVENT
BEGIN:VEVENT
DTSTART;TZID=Asia/Kuala_Lumpur:20251011T100000
DTEND;TZID=Asia/Kuala_Lumpur:20251011T110000
DTSTAMP:20260422T081041
CREATED:20251001T090520Z
LAST-MODIFIED:20251001T090520Z
UID:3753-1760176800-1760180400@kgperik.nadi.my
SUMMARY:Webinar Kidventure Cohort 6
DESCRIPTION:
URL:https://kgperik.nadi.my/event/webinar-kidventure-cohort-6/
END:VEVENT
BEGIN:VEVENT
DTSTART;TZID=Asia/Kuala_Lumpur:20251014T153000
DTEND;TZID=Asia/Kuala_Lumpur:20251014T163000
DTSTAMP:20260422T081041
CREATED:20251014T022458Z
LAST-MODIFIED:20251014T022458Z
UID:3772-1760455800-1760459400@kgperik.nadi.my
SUMMARY:Open Tuition Matematik (Tingkatan 1-5)
DESCRIPTION:
URL:https://kgperik.nadi.my/event/open-tuition-matematik-tingkatan-1-5/
END:VEVENT
BEGIN:VEVENT
DTSTART;TZID=Asia/Kuala_Lumpur:20251016T153000
DTEND;TZID=Asia/Kuala_Lumpur:20251016T163000
DTSTAMP:20260422T081041
CREATED:20251014T022534Z
LAST-MODIFIED:20251014T022534Z
UID:3774-1760628600-1760632200@kgperik.nadi.my
SUMMARY:Open tuition Sains (Tingkatan 1-5)
DESCRIPTION:
URL:https://kgperik.nadi.my/event/open-tuition-sains-tingkatan-1-5/
END:VEVENT
END:VCALENDAR