BEGIN:VCALENDAR
VERSION:2.0
PRODID:-//NADI Kg Perik - ECPv6.15.13.1//NONSGML v1.0//EN
CALSCALE:GREGORIAN
METHOD:PUBLISH
X-WR-CALNAME:NADI Kg Perik
X-ORIGINAL-URL:https://kgperik.nadi.my
X-WR-CALDESC:Events for NADI Kg Perik
REFRESH-INTERVAL;VALUE=DURATION:PT1H
X-Robots-Tag:noindex
X-PUBLISHED-TTL:PT1H
BEGIN:VTIMEZONE
TZID:Asia/Kuala_Lumpur
BEGIN:STANDARD
TZOFFSETFROM:+0800
TZOFFSETTO:+0800
TZNAME:+08
DTSTART:20240101T000000
END:STANDARD
END:VTIMEZONE
BEGIN:VTIMEZONE
TZID:UTC
BEGIN:STANDARD
TZOFFSETFROM:+0000
TZOFFSETTO:+0000
TZNAME:UTC
DTSTART:20240101T000000
END:STANDARD
END:VTIMEZONE
BEGIN:VEVENT
DTSTART;TZID=Asia/Kuala_Lumpur:20250510T100000
DTEND;TZID=Asia/Kuala_Lumpur:20250510T110000
DTSTAMP:20260425T214317
CREATED:20250502T070116Z
LAST-MODIFIED:20250502T070116Z
UID:3458-1746871200-1746874800@kgperik.nadi.my
SUMMARY:Kelas STEM
DESCRIPTION:
URL:https://kgperik.nadi.my/event/kelas-stem-6/
END:VEVENT
BEGIN:VEVENT
DTSTART;TZID=Asia/Kuala_Lumpur:20250508T150000
DTEND;TZID=Asia/Kuala_Lumpur:20250508T170000
DTSTAMP:20260425T214317
CREATED:20250502T070031Z
LAST-MODIFIED:20250502T070031Z
UID:3456-1746716400-1746723600@kgperik.nadi.my
SUMMARY:Kelas Keusahawanan
DESCRIPTION:
URL:https://kgperik.nadi.my/event/kelas-keusahawanan-13/
END:VEVENT
BEGIN:VEVENT
DTSTART;TZID=Asia/Kuala_Lumpur:20250503T143000
DTEND;TZID=Asia/Kuala_Lumpur:20250503T153000
DTSTAMP:20260425T214317
CREATED:20250502T065941Z
LAST-MODIFIED:20250502T065943Z
UID:3454-1746282600-1746286200@kgperik.nadi.my
SUMMARY:Kelas ICT
DESCRIPTION:
URL:https://kgperik.nadi.my/event/kelas-ict-12/
END:VEVENT
BEGIN:VEVENT
DTSTART;TZID=Asia/Kuala_Lumpur:20250502T103000
DTEND;TZID=Asia/Kuala_Lumpur:20250502T113000
DTSTAMP:20260425T214317
CREATED:20250502T065815Z
LAST-MODIFIED:20250502T065853Z
UID:3452-1746181800-1746185400@kgperik.nadi.my
SUMMARY:Webinar Kesejahteraan Kendiri
DESCRIPTION:
URL:https://kgperik.nadi.my/event/webinar-kesejahteraan-kendiri/
END:VEVENT
BEGIN:VEVENT
DTSTART;TZID=Asia/Kuala_Lumpur:20250416T143000
DTEND;TZID=Asia/Kuala_Lumpur:20250416T153000
DTSTAMP:20260425T214317
CREATED:20250403T063331Z
LAST-MODIFIED:20250403T063331Z
UID:3423-1744813800-1744817400@kgperik.nadi.my
SUMMARY:Kelas STEM
DESCRIPTION:
URL:https://kgperik.nadi.my/event/kelas-stem-5/
END:VEVENT
BEGIN:VEVENT
DTSTART;TZID=Asia/Kuala_Lumpur:20250411T110000
DTEND;TZID=Asia/Kuala_Lumpur:20250411T120000
DTSTAMP:20260425T214317
CREATED:20250403T063240Z
LAST-MODIFIED:20250403T063240Z
UID:3421-1744369200-1744372800@kgperik.nadi.my
SUMMARY:Kelas Mahir Masak & Mahir Jahit
DESCRIPTION:
URL:https://kgperik.nadi.my/event/kelas-mahir-masak-mahir-jahit/
END:VEVENT
BEGIN:VEVENT
DTSTART;TZID=Asia/Kuala_Lumpur:20250410T110000
DTEND;TZID=Asia/Kuala_Lumpur:20250410T120000
DTSTAMP:20260425T214317
CREATED:20250403T063153Z
LAST-MODIFIED:20250403T063153Z
UID:3419-1744282800-1744286400@kgperik.nadi.my
SUMMARY:Kelas Mahir Jahit
DESCRIPTION:
URL:https://kgperik.nadi.my/event/kelas-mahir-jahit-4/
END:VEVENT
BEGIN:VEVENT
DTSTART;TZID=Asia/Kuala_Lumpur:20250405T140000
DTEND;TZID=Asia/Kuala_Lumpur:20250405T150000
DTSTAMP:20260425T214317
CREATED:20250403T063107Z
LAST-MODIFIED:20250403T063107Z
UID:3417-1743861600-1743865200@kgperik.nadi.my
SUMMARY:Kelas Keusahawanan
DESCRIPTION:
URL:https://kgperik.nadi.my/event/kelas-keusahawanan-12/
END:VEVENT
BEGIN:VEVENT
DTSTART;TZID=Asia/Kuala_Lumpur:20250404T100000
DTEND;TZID=Asia/Kuala_Lumpur:20250404T110000
DTSTAMP:20260425T214317
CREATED:20250403T063026Z
LAST-MODIFIED:20250403T063026Z
UID:3415-1743760800-1743764400@kgperik.nadi.my
SUMMARY:Kelas ICT
DESCRIPTION:
URL:https://kgperik.nadi.my/event/kelas-ict-11/
END:VEVENT
BEGIN:VEVENT
DTSTART;TZID=Asia/Kuala_Lumpur:20250331T080000
DTEND;TZID=Asia/Kuala_Lumpur:20250331T170000
DTSTAMP:20260425T214317
CREATED:20250301T074846Z
LAST-MODIFIED:20250301T074846Z
UID:3365-1743408000-1743440400@kgperik.nadi.my
SUMMARY:Penutupan NADI Sempena Hari Raya Aidilfitri
DESCRIPTION:
URL:https://kgperik.nadi.my/event/penutupan-nadi-sempena-hari-raya-aidilfitri/
END:VEVENT
BEGIN:VEVENT
DTSTART;TZID=Asia/Kuala_Lumpur:20250327T080000
DTEND;TZID=Asia/Kuala_Lumpur:20250327T170000
DTSTAMP:20260425T214317
CREATED:20250301T074826Z
LAST-MODIFIED:20250301T074826Z
UID:3363-1743062400-1743094800@kgperik.nadi.my
SUMMARY:Kelas Mahir Jahit
DESCRIPTION:
URL:https://kgperik.nadi.my/event/kelas-mahir-jahit-3/
END:VEVENT
BEGIN:VEVENT
DTSTART;TZID=Asia/Kuala_Lumpur:20250323T080000
DTEND;TZID=Asia/Kuala_Lumpur:20250323T170000
DTSTAMP:20260425T214317
CREATED:20250301T074809Z
LAST-MODIFIED:20250301T074809Z
UID:3361-1742716800-1742749200@kgperik.nadi.my
SUMMARY:The Monitoring
DESCRIPTION:
URL:https://kgperik.nadi.my/event/the-monitoring/
END:VEVENT
BEGIN:VEVENT
DTSTART;TZID=Asia/Kuala_Lumpur:20250322T080000
DTEND;TZID=Asia/Kuala_Lumpur:20250322T170000
DTSTAMP:20260425T214317
CREATED:20250301T074749Z
LAST-MODIFIED:20250301T074749Z
UID:3359-1742630400-1742662800@kgperik.nadi.my
SUMMARY:CTF Workshop – FS4A Online Session : Secondary Modul
DESCRIPTION:
URL:https://kgperik.nadi.my/event/ctf-workshop-fs4a-online-session-secondary-modul/
END:VEVENT
BEGIN:VEVENT
DTSTART;TZID=Asia/Kuala_Lumpur:20250318T080000
DTEND;TZID=Asia/Kuala_Lumpur:20250318T170000
DTSTAMP:20260425T214317
CREATED:20250301T074732Z
LAST-MODIFIED:20250301T074732Z
UID:3357-1742284800-1742317200@kgperik.nadi.my
SUMMARY:Podcast Empower 3 : Kisah Tepung dan Ketuhar : Manisnya Dunia Pembakar
DESCRIPTION:
URL:https://kgperik.nadi.my/event/podcast-empower-3-kisah-tepung-dan-ketuhar-manisnya-dunia-pembakar/
END:VEVENT
BEGIN:VEVENT
DTSTART;TZID=Asia/Kuala_Lumpur:20250315T080000
DTEND;TZID=Asia/Kuala_Lumpur:20250315T170000
DTSTAMP:20260425T214317
CREATED:20250301T074715Z
LAST-MODIFIED:20250301T074715Z
UID:3355-1742025600-1742058000@kgperik.nadi.my
SUMMARY:Webminar Cap T Flag Wshop – Cybergrooming
DESCRIPTION:
URL:https://kgperik.nadi.my/event/webminar-cap-t-flag-wshop-cybergrooming/
END:VEVENT
BEGIN:VEVENT
DTSTART;TZID=Asia/Kuala_Lumpur:20250313T080000
DTEND;TZID=Asia/Kuala_Lumpur:20250313T170000
DTSTAMP:20260425T214317
CREATED:20250301T074637Z
LAST-MODIFIED:20250301T074637Z
UID:3353-1741852800-1741885200@kgperik.nadi.my
SUMMARY:Cohort 2 : Online Training (Business Plan & Financial Management
DESCRIPTION:
URL:https://kgperik.nadi.my/event/cohort-2-online-training-business-plan-financial-management/
END:VEVENT
BEGIN:VEVENT
DTSTART;TZID=Asia/Kuala_Lumpur:20250307T150000
DTEND;TZID=Asia/Kuala_Lumpur:20250307T160000
DTSTAMP:20260425T214317
CREATED:20250301T074607Z
LAST-MODIFIED:20250301T074607Z
UID:3351-1741359600-1741363200@kgperik.nadi.my
SUMMARY:Kelas Mahir Jahit dan Mahir Foto
DESCRIPTION:
URL:https://kgperik.nadi.my/event/kelas-mahir-jahit-dan-mahir-foto/
END:VEVENT
BEGIN:VEVENT
DTSTART;TZID=Asia/Kuala_Lumpur:20250306T110000
DTEND;TZID=Asia/Kuala_Lumpur:20250306T120000
DTSTAMP:20260425T214317
CREATED:20250301T074522Z
LAST-MODIFIED:20250301T074522Z
UID:3349-1741258800-1741262400@kgperik.nadi.my
SUMMARY:Kelas Mahir Jahit
DESCRIPTION:
URL:https://kgperik.nadi.my/event/kelas-mahir-jahit-2/
END:VEVENT
BEGIN:VEVENT
DTSTART;TZID=Asia/Kuala_Lumpur:20250302T080000
DTEND;TZID=Asia/Kuala_Lumpur:20250302T170000
DTSTAMP:20260425T214317
CREATED:20250301T074431Z
LAST-MODIFIED:20250301T074431Z
UID:3347-1740902400-1740934800@kgperik.nadi.my
SUMMARY:Penutupan NADI Sempena Awal Ramadan
DESCRIPTION:
URL:https://kgperik.nadi.my/event/penutupan-nadi-sempena-awal-ramadan/
END:VEVENT
BEGIN:VEVENT
DTSTART;TZID=UTC:20250213T090000
DTEND;TZID=UTC:20250213T140000
DTSTAMP:20260425T214317
CREATED:20250201T012643Z
LAST-MODIFIED:20250201T012643Z
UID:3305-1739437200-1739455200@kgperik.nadi.my
SUMMARY:Program Back To School
DESCRIPTION:
URL:https://kgperik.nadi.my/event/program-back-to-school-2/
END:VEVENT
BEGIN:VEVENT
DTSTART;TZID=UTC:20250208T110000
DTEND;TZID=UTC:20250208T120000
DTSTAMP:20260425T214317
CREATED:20250201T012602Z
LAST-MODIFIED:20250201T012602Z
UID:3303-1739012400-1739016000@kgperik.nadi.my
SUMMARY:Kelas Mahir Masak
DESCRIPTION:
URL:https://kgperik.nadi.my/event/kelas-mahir-masak/
END:VEVENT
BEGIN:VEVENT
DTSTART;TZID=UTC:20250207T110000
DTEND;TZID=UTC:20250207T120000
DTSTAMP:20260425T214317
CREATED:20250201T012501Z
LAST-MODIFIED:20250201T012501Z
UID:3301-1738926000-1738929600@kgperik.nadi.my
SUMMARY:Kelas Mahir Masak dan Mahir Foto
DESCRIPTION:
URL:https://kgperik.nadi.my/event/kelas-mahir-masak-dan-mahir-foto/
END:VEVENT
BEGIN:VEVENT
DTSTART;TZID=UTC:20250206T110000
DTEND;TZID=UTC:20250206T120000
DTSTAMP:20260425T214317
CREATED:20250201T012413Z
LAST-MODIFIED:20250201T012413Z
UID:3299-1738839600-1738843200@kgperik.nadi.my
SUMMARY:Kelas Mahir Jahit
DESCRIPTION:
URL:https://kgperik.nadi.my/event/kelas-mahir-jahit/
END:VEVENT
BEGIN:VEVENT
DTSTART;TZID=UTC:20250205T090000
DTEND;TZID=UTC:20250205T140000
DTSTAMP:20260425T214317
CREATED:20250201T012323Z
LAST-MODIFIED:20250201T012323Z
UID:3297-1738746000-1738764000@kgperik.nadi.my
SUMMARY:Program Back To School
DESCRIPTION:
URL:https://kgperik.nadi.my/event/program-back-to-school/
END:VEVENT
BEGIN:VEVENT
DTSTART;TZID=UTC:20250201T153000
DTEND;TZID=UTC:20250201T163000
DTSTAMP:20260425T214317
CREATED:20250201T012237Z
LAST-MODIFIED:20250201T012237Z
UID:3295-1738423800-1738427400@kgperik.nadi.my
SUMMARY:Dilea Live Class Matematik
DESCRIPTION:
URL:https://kgperik.nadi.my/event/dilea-live-class-matematik/
END:VEVENT
BEGIN:VEVENT
DTSTART;TZID=UTC:20250117T100000
DTEND;TZID=UTC:20250117T110000
DTSTAMP:20260425T214317
CREATED:20250101T174607Z
LAST-MODIFIED:20250101T174607Z
UID:3225-1737108000-1737111600@kgperik.nadi.my
SUMMARY:Kelas STEM
DESCRIPTION:
URL:https://kgperik.nadi.my/event/kelas-stem-4/
END:VEVENT
BEGIN:VEVENT
DTSTART;TZID=UTC:20250111T100000
DTEND;TZID=UTC:20250111T110000
DTSTAMP:20260425T214317
CREATED:20250101T174307Z
LAST-MODIFIED:20250101T174307Z
UID:3223-1736589600-1736593200@kgperik.nadi.my
SUMMARY:Kelas ICT
DESCRIPTION:
URL:https://kgperik.nadi.my/event/kelas-ict-10/
END:VEVENT
BEGIN:VEVENT
DTSTART;TZID=UTC:20250109T150000
DTEND;TZID=UTC:20250109T170000
DTSTAMP:20260425T214317
CREATED:20250101T174100Z
LAST-MODIFIED:20250101T174100Z
UID:3221-1736434800-1736442000@kgperik.nadi.my
SUMMARY:Kelas Keusahawanan
DESCRIPTION:
URL:https://kgperik.nadi.my/event/kelas-keusahawanan-11/
END:VEVENT
BEGIN:VEVENT
DTSTART;TZID=UTC:20250104T110000
DTEND;TZID=UTC:20250104T120000
DTSTAMP:20260425T214317
CREATED:20250101T173949Z
LAST-MODIFIED:20250101T173949Z
UID:3219-1735988400-1735992000@kgperik.nadi.my
SUMMARY:Kelas Mahir Masak dan Fotografi
DESCRIPTION:
URL:https://kgperik.nadi.my/event/kelas-mahir-masak-dan-fotografi/
END:VEVENT
BEGIN:VEVENT
DTSTART;TZID=UTC:20250103T100000
DTEND;TZID=UTC:20250103T110000
DTSTAMP:20260425T214317
CREATED:20250101T173750Z
LAST-MODIFIED:20250101T173750Z
UID:3217-1735898400-1735902000@kgperik.nadi.my
SUMMARY:Kelas ICT
DESCRIPTION:
URL:https://kgperik.nadi.my/event/kelas-ict-9/
END:VEVENT
END:VCALENDAR