BEGIN:VCALENDAR
VERSION:2.0
PRODID:-//NADI Kg Perik - ECPv6.15.13.1//NONSGML v1.0//EN
CALSCALE:GREGORIAN
METHOD:PUBLISH
X-ORIGINAL-URL:https://kgperik.nadi.my
X-WR-CALDESC:Events for NADI Kg Perik
REFRESH-INTERVAL;VALUE=DURATION:PT1H
X-Robots-Tag:noindex
X-PUBLISHED-TTL:PT1H
BEGIN:VTIMEZONE
TZID:Asia/Kuala_Lumpur
BEGIN:STANDARD
TZOFFSETFROM:+0800
TZOFFSETTO:+0800
TZNAME:+08
DTSTART:20240101T000000
END:STANDARD
END:VTIMEZONE
BEGIN:VEVENT
DTSTART;TZID=Asia/Kuala_Lumpur:20251201T080000
DTEND;TZID=Asia/Kuala_Lumpur:20251231T170000
DTSTAMP:20260420T111509
CREATED:20251201T052720Z
LAST-MODIFIED:20251201T052720Z
UID:3844-1764576000-1767200400@kgperik.nadi.my
SUMMARY:Open Tuition NADI Dilea
DESCRIPTION:Sepanjang Bulan Disember 2025.
URL:https://kgperik.nadi.my/event/open-tuition-nadi-dilea/
END:VEVENT
BEGIN:VEVENT
DTSTART;TZID=Asia/Kuala_Lumpur:20251115T100000
DTEND;TZID=Asia/Kuala_Lumpur:20251115T180000
DTSTAMP:20260420T111509
CREATED:20251101T090103Z
LAST-MODIFIED:20251101T090103Z
UID:3793-1763200800-1763229600@kgperik.nadi.my
SUMMARY:Kidventure Cohort 7 : Webinar Pemasaran
DESCRIPTION:
URL:https://kgperik.nadi.my/event/kidventure-cohort-7-webinar-pemasaran/
END:VEVENT
BEGIN:VEVENT
DTSTART;TZID=Asia/Kuala_Lumpur:20251111T100000
DTEND;TZID=Asia/Kuala_Lumpur:20251111T110000
DTSTAMP:20260420T111509
CREATED:20251110T025459Z
LAST-MODIFIED:20251110T025459Z
UID:3818-1762855200-1762858800@kgperik.nadi.my
SUMMARY:Kelas Tajwid
DESCRIPTION:
URL:https://kgperik.nadi.my/event/kelas-tajwid/
END:VEVENT
BEGIN:VEVENT
DTSTART;TZID=Asia/Kuala_Lumpur:20251103T090000
DTEND;TZID=Asia/Kuala_Lumpur:20251107T180000
DTSTAMP:20260420T111509
CREATED:20251101T084834Z
LAST-MODIFIED:20251101T084834Z
UID:3790-1762160400-1762538400@kgperik.nadi.my
SUMMARY:NADIPreneur & empowHer
DESCRIPTION:
URL:https://kgperik.nadi.my/event/nadipreneur-empowher/
END:VEVENT
BEGIN:VEVENT
DTSTART;TZID=Asia/Kuala_Lumpur:20251016T153000
DTEND;TZID=Asia/Kuala_Lumpur:20251016T163000
DTSTAMP:20260420T111509
CREATED:20251014T022534Z
LAST-MODIFIED:20251014T022534Z
UID:3774-1760628600-1760632200@kgperik.nadi.my
SUMMARY:Open tuition Sains (Tingkatan 1-5)
DESCRIPTION:
URL:https://kgperik.nadi.my/event/open-tuition-sains-tingkatan-1-5/
END:VEVENT
BEGIN:VEVENT
DTSTART;TZID=Asia/Kuala_Lumpur:20251014T153000
DTEND;TZID=Asia/Kuala_Lumpur:20251014T163000
DTSTAMP:20260420T111509
CREATED:20251014T022458Z
LAST-MODIFIED:20251014T022458Z
UID:3772-1760455800-1760459400@kgperik.nadi.my
SUMMARY:Open Tuition Matematik (Tingkatan 1-5)
DESCRIPTION:
URL:https://kgperik.nadi.my/event/open-tuition-matematik-tingkatan-1-5/
END:VEVENT
BEGIN:VEVENT
DTSTART;TZID=Asia/Kuala_Lumpur:20251011T100000
DTEND;TZID=Asia/Kuala_Lumpur:20251011T110000
DTSTAMP:20260420T111509
CREATED:20251001T090520Z
LAST-MODIFIED:20251001T090520Z
UID:3753-1760176800-1760180400@kgperik.nadi.my
SUMMARY:Webinar Kidventure Cohort 6
DESCRIPTION:
URL:https://kgperik.nadi.my/event/webinar-kidventure-cohort-6/
END:VEVENT
BEGIN:VEVENT
DTSTART;TZID=Asia/Kuala_Lumpur:20251004T143000
DTEND;TZID=Asia/Kuala_Lumpur:20251004T163000
DTSTAMP:20260420T111509
CREATED:20251001T090445Z
LAST-MODIFIED:20251001T090445Z
UID:3751-1759588200-1759595400@kgperik.nadi.my
SUMMARY:DILEA – Webinar
DESCRIPTION:
URL:https://kgperik.nadi.my/event/dilea-webinar/
END:VEVENT
BEGIN:VEVENT
DTSTART;TZID=Asia/Kuala_Lumpur:20251002T083000
DTEND;TZID=Asia/Kuala_Lumpur:20251002T130000
DTSTAMP:20260420T111509
CREATED:20251001T085013Z
LAST-MODIFIED:20251001T085013Z
UID:3746-1759393800-1759410000@kgperik.nadi.my
SUMMARY:KIS Sekolah Menengah Seluruh Padang Terap
DESCRIPTION:
URL:https://kgperik.nadi.my/event/kis-sekolah-menengah-seluruh-padang-terap/
END:VEVENT
BEGIN:VEVENT
DTSTART;TZID=Asia/Kuala_Lumpur:20250916T080000
DTEND;TZID=Asia/Kuala_Lumpur:20250916T170000
DTSTAMP:20260420T111509
CREATED:20250907T072533Z
LAST-MODIFIED:20250907T072533Z
UID:3719-1758009600-1758042000@kgperik.nadi.my
SUMMARY:Cuti Sempena Hari Malaysia
DESCRIPTION:
URL:https://kgperik.nadi.my/event/cuti-sempena-hari-malaysia/
END:VEVENT
BEGIN:VEVENT
DTSTART;TZID=Asia/Kuala_Lumpur:20250912T093000
DTEND;TZID=Asia/Kuala_Lumpur:20250912T110000
DTSTAMP:20260420T111509
CREATED:20250907T072508Z
LAST-MODIFIED:20250907T072508Z
UID:3717-1757669400-1757674800@kgperik.nadi.my
SUMMARY:MAHIR : Masak
DESCRIPTION:
URL:https://kgperik.nadi.my/event/mahir-masak/
END:VEVENT
BEGIN:VEVENT
DTSTART;TZID=Asia/Kuala_Lumpur:20250906T080000
DTEND;TZID=Asia/Kuala_Lumpur:20250906T170000
DTSTAMP:20260420T111509
CREATED:20250902T075338Z
LAST-MODIFIED:20250902T075338Z
UID:3704-1757145600-1757178000@kgperik.nadi.my
SUMMARY:Program Sambutan Hari Kemerdekaan yang ke 68 @NADI
DESCRIPTION:
URL:https://kgperik.nadi.my/event/program-sambutan-hari-kemerdekaan-yang-ke-68-nadi/
END:VEVENT
BEGIN:VEVENT
DTSTART;TZID=Asia/Kuala_Lumpur:20250816T080000
DTEND;TZID=Asia/Kuala_Lumpur:20250816T170000
DTSTAMP:20260420T111509
CREATED:20250812T022057Z
LAST-MODIFIED:20250812T022057Z
UID:3670-1755331200-1755363600@kgperik.nadi.my
SUMMARY:Program Gema Merdeka - SK Pedu
DESCRIPTION:
URL:https://kgperik.nadi.my/event/program-gema-merdeka-sk-pedu/
END:VEVENT
BEGIN:VEVENT
DTSTART;TZID=Asia/Kuala_Lumpur:20250809T100000
DTEND;TZID=Asia/Kuala_Lumpur:20250809T113000
DTSTAMP:20260420T111509
CREATED:20250801T032312Z
LAST-MODIFIED:20250801T032312Z
UID:3654-1754733600-1754739000@kgperik.nadi.my
SUMMARY:KIDVENTURE : Cohort 4 : Webinar
DESCRIPTION:
URL:https://kgperik.nadi.my/event/kidventure-cohort-4-webinar/
END:VEVENT
BEGIN:VEVENT
DTSTART;TZID=Asia/Kuala_Lumpur:20250806T090000
DTEND;TZID=Asia/Kuala_Lumpur:20250806T180000
DTSTAMP:20260420T111509
CREATED:20250801T032238Z
LAST-MODIFIED:20250801T032238Z
UID:3652-1754470800-1754503200@kgperik.nadi.my
SUMMARY:USAHAWAN COHORT 4 : Video Pra Latihan Pemasaran dan Operasi
DESCRIPTION:
URL:https://kgperik.nadi.my/event/usahawan-cohort-4-video-pra-latihan-pemasaran-dan-operasi/
END:VEVENT
BEGIN:VEVENT
DTSTART;TZID=Asia/Kuala_Lumpur:20250804T100000
DTEND;TZID=Asia/Kuala_Lumpur:20250804T110000
DTSTAMP:20260420T111509
CREATED:20250801T032120Z
LAST-MODIFIED:20250801T032120Z
UID:3650-1754301600-1754305200@kgperik.nadi.my
SUMMARY:E-KLAS Modul 1 dan 2
DESCRIPTION:
URL:https://kgperik.nadi.my/event/e-klas-modul-1-dan-2/
END:VEVENT
BEGIN:VEVENT
DTSTART;TZID=Asia/Kuala_Lumpur:20250804T090000
DTEND;TZID=Asia/Kuala_Lumpur:20250804T110000
DTSTAMP:20260420T111509
CREATED:20250728T091307Z
LAST-MODIFIED:20250728T091307Z
UID:3640-1754298000-1754305200@kgperik.nadi.my
SUMMARY:Kempen Internet Selamat SK Lamdin
DESCRIPTION:
URL:https://kgperik.nadi.my/event/kempen-internet-selamat-sk-lamdin/
END:VEVENT
BEGIN:VEVENT
DTSTART;TZID=Asia/Kuala_Lumpur:20250802T100000
DTEND;TZID=Asia/Kuala_Lumpur:20250802T113000
DTSTAMP:20260420T111509
CREATED:20250801T032019Z
LAST-MODIFIED:20250801T032019Z
UID:3648-1754128800-1754134200@kgperik.nadi.my
SUMMARY:Tiny Techies – Primary – Microbit
DESCRIPTION:
URL:https://kgperik.nadi.my/event/tiny-techies-primary-microbit/
END:VEVENT
BEGIN:VEVENT
DTSTART;TZID=Asia/Kuala_Lumpur:20250801T103000
DTEND;TZID=Asia/Kuala_Lumpur:20250801T120000
DTSTAMP:20260420T111509
CREATED:20250801T031932Z
LAST-MODIFIED:20250801T031932Z
UID:3646-1754044200-1754049600@kgperik.nadi.my
SUMMARY:Webinar Sihat itu pilihan: Kenali makanan anda Bahagian 3 | W070
DESCRIPTION:
URL:https://kgperik.nadi.my/event/webinar-sihat-itu-pilihan-kenali-makanan-anda-bahagian-3-w070/
END:VEVENT
BEGIN:VEVENT
DTSTART;TZID=Asia/Kuala_Lumpur:20250726T103000
DTEND;TZID=Asia/Kuala_Lumpur:20250726T113000
DTSTAMP:20260420T111509
CREATED:20250701T042625Z
LAST-MODIFIED:20250701T042625Z
UID:3585-1753525800-1753529400@kgperik.nadi.my
SUMMARY:ikon cilik cohort 3: webinar 4: operasi perniagaan
DESCRIPTION:
URL:https://kgperik.nadi.my/event/ikon-cilik-cohort-3-webinar-4-operasi-perniagaan/
END:VEVENT
BEGIN:VEVENT
DTSTART;TZID=Asia/Kuala_Lumpur:20250724T143000
DTEND;TZID=Asia/Kuala_Lumpur:20250724T153000
DTSTAMP:20260420T111509
CREATED:20250701T042554Z
LAST-MODIFIED:20250701T042554Z
UID:3583-1753367400-1753371000@kgperik.nadi.my
SUMMARY:cybersecurity: keselamatan akaun media sosial
DESCRIPTION:
URL:https://kgperik.nadi.my/event/cybersecurity-keselamatan-akaun-media-sosial/
END:VEVENT
BEGIN:VEVENT
DTSTART;TZID=Asia/Kuala_Lumpur:20250719T100000
DTEND;TZID=Asia/Kuala_Lumpur:20250719T110000
DTSTAMP:20260420T111509
CREATED:20250701T042520Z
LAST-MODIFIED:20250701T042520Z
UID:3581-1752919200-1752922800@kgperik.nadi.my
SUMMARY:ikon cilik cohort 3: webinar 3: pemasaran
DESCRIPTION:
URL:https://kgperik.nadi.my/event/ikon-cilik-cohort-3-webinar-3-pemasaran/
END:VEVENT
BEGIN:VEVENT
DTSTART;TZID=Asia/Kuala_Lumpur:20250714T080000
DTEND;TZID=Asia/Kuala_Lumpur:20250715T170000
DTSTAMP:20260420T111509
CREATED:20250701T042429Z
LAST-MODIFIED:20250701T042429Z
UID:3579-1752480000-1752598800@kgperik.nadi.my
SUMMARY:Latihan Tahunan Pengurus
DESCRIPTION:
URL:https://kgperik.nadi.my/event/latihan-tahunan-pengurus-2/
END:VEVENT
BEGIN:VEVENT
DTSTART;TZID=Asia/Kuala_Lumpur:20250712T153000
DTEND;TZID=Asia/Kuala_Lumpur:20250712T163000
DTSTAMP:20260420T111509
CREATED:20250701T042356Z
LAST-MODIFIED:20250701T042356Z
UID:3577-1752334200-1752337800@kgperik.nadi.my
SUMMARY:Ikon cilik cohort 3 video 4: operasi perniagaan
DESCRIPTION:
URL:https://kgperik.nadi.my/event/ikon-cilik-cohort-3-video-4-operasi-perniagaan/
END:VEVENT
BEGIN:VEVENT
DTSTART;TZID=Asia/Kuala_Lumpur:20250710T143000
DTEND;TZID=Asia/Kuala_Lumpur:20250710T153000
DTSTAMP:20260420T111509
CREATED:20250701T042318Z
LAST-MODIFIED:20250701T042318Z
UID:3575-1752157800-1752161400@kgperik.nadi.my
SUMMARY:cybersecurity: dari serangan siber ke pemulihan
DESCRIPTION:
URL:https://kgperik.nadi.my/event/cybersecurity-dari-serangan-siber-ke-pemulihan/
END:VEVENT
BEGIN:VEVENT
DTSTART;TZID=Asia/Kuala_Lumpur:20250705T100000
DTEND;TZID=Asia/Kuala_Lumpur:20250705T113000
DTSTAMP:20260420T111509
CREATED:20250701T042247Z
LAST-MODIFIED:20250701T042247Z
UID:3573-1751709600-1751715000@kgperik.nadi.my
SUMMARY:Ikon Cilik cohort 3 video 3: pemasaran
DESCRIPTION:
URL:https://kgperik.nadi.my/event/ikon-cilik-cohort-3-video-3-pemasaran/
END:VEVENT
BEGIN:VEVENT
DTSTART;TZID=Asia/Kuala_Lumpur:20250606T150000
DTEND;TZID=Asia/Kuala_Lumpur:20250606T170000
DTSTAMP:20260420T111509
CREATED:20250603T042800Z
LAST-MODIFIED:20250603T042800Z
UID:3505-1749222000-1749229200@kgperik.nadi.my
SUMMARY:Mahir Jahit
DESCRIPTION:
URL:https://kgperik.nadi.my/event/mahir-jahit-2/
END:VEVENT
BEGIN:VEVENT
DTSTART;TZID=Asia/Kuala_Lumpur:20250605T093000
DTEND;TZID=Asia/Kuala_Lumpur:20250605T113000
DTSTAMP:20260420T111509
CREATED:20250603T042728Z
LAST-MODIFIED:20250603T042728Z
UID:3503-1749115800-1749123000@kgperik.nadi.my
SUMMARY:Mahir Jahit
DESCRIPTION:
URL:https://kgperik.nadi.my/event/mahir-jahit/
END:VEVENT
BEGIN:VEVENT
DTSTART;TZID=Asia/Kuala_Lumpur:20250604T100000
DTEND;TZID=Asia/Kuala_Lumpur:20250604T120000
DTSTAMP:20260420T111509
CREATED:20250603T042658Z
LAST-MODIFIED:20250603T042658Z
UID:3501-1749031200-1749038400@kgperik.nadi.my
SUMMARY:Program “Digital Bersama Peladang: Memperkasa Komuniti Luar Bandar melalui NADI”
DESCRIPTION:
URL:https://kgperik.nadi.my/event/program-digital-bersama-peladang-memperkasa-komuniti-luar-bandar-melalui-nadi/
END:VEVENT
BEGIN:VEVENT
DTSTART;TZID=Asia/Kuala_Lumpur:20250515T110000
DTEND;TZID=Asia/Kuala_Lumpur:20250515T120000
DTSTAMP:20260420T111509
CREATED:20250502T070257Z
LAST-MODIFIED:20250502T070302Z
UID:3460-1747306800-1747310400@kgperik.nadi.my
SUMMARY:Kelas Mahir Jahit
DESCRIPTION:
URL:https://kgperik.nadi.my/event/kelas-mahir-jahit-5/
END:VEVENT
END:VCALENDAR