BEGIN:VCALENDAR
VERSION:2.0
PRODID:-//NADI Kg Perik - ECPv6.15.13.1//NONSGML v1.0//EN
CALSCALE:GREGORIAN
METHOD:PUBLISH
X-WR-CALNAME:NADI Kg Perik
X-ORIGINAL-URL:https://kgperik.nadi.my
X-WR-CALDESC:Events for NADI Kg Perik
REFRESH-INTERVAL;VALUE=DURATION:PT1H
X-Robots-Tag:noindex
X-PUBLISHED-TTL:PT1H
BEGIN:VTIMEZONE
TZID:Asia/Kuala_Lumpur
BEGIN:STANDARD
TZOFFSETFROM:+0800
TZOFFSETTO:+0800
TZNAME:+08
DTSTART:20240101T000000
END:STANDARD
END:VTIMEZONE
BEGIN:VEVENT
DTSTART;TZID=Asia/Kuala_Lumpur:20250804T090000
DTEND;TZID=Asia/Kuala_Lumpur:20250804T110000
DTSTAMP:20260425T083252
CREATED:20250728T091307Z
LAST-MODIFIED:20250728T091307Z
UID:3640-1754298000-1754305200@kgperik.nadi.my
SUMMARY:Kempen Internet Selamat SK Lamdin
DESCRIPTION:
URL:https://kgperik.nadi.my/event/kempen-internet-selamat-sk-lamdin/
END:VEVENT
BEGIN:VEVENT
DTSTART;TZID=Asia/Kuala_Lumpur:20250804T100000
DTEND;TZID=Asia/Kuala_Lumpur:20250804T110000
DTSTAMP:20260425T083252
CREATED:20250801T032120Z
LAST-MODIFIED:20250801T032120Z
UID:3650-1754301600-1754305200@kgperik.nadi.my
SUMMARY:E-KLAS Modul 1 dan 2
DESCRIPTION:
URL:https://kgperik.nadi.my/event/e-klas-modul-1-dan-2/
END:VEVENT
END:VCALENDAR